BEGIN:VCALENDAR
VERSION:2.0
METHOD:PUBLISH
PRODID:-//Event-List//NONSGML Event-List 5.4.2//DE
X-WR-TIMEZONE:Europe/Berlin
CALSCALE:GREGORIAN
BEGIN:VTIMEZONE
TZID:Europe/Berlin
BEGIN:DAYLIGHT
TZOFFSETFROM:+0100
TZOFFSETTO:+0200
DTSTART:19810329T020000
RRULE:FREQ=YEARLY;BYMONTH=3;BYDAY=-1SU
TZNAME:CEST
END:DAYLIGHT
BEGIN:STANDARD
TZOFFSETFROM:+0200
TZOFFSETTO:+0100
DTSTART:19961027T030000
RRULE:FREQ=YEARLY;BYMONTH=10;BYDAY=-1SU
TZNAME:CET
END:STANDARD
END:VTIMEZONE
BEGIN:VEVENT
DTSTAMP:20240925T063600Z
DTSTART;TZID=Europe/Berlin:20240926T200000
DTEND;TZID=Europe/Berlin:20240926T200000
UID:328@dartraptors.de/files/calendar
CLASS:PUBLIC
SUMMARY:TT Punktspiel MTV Vechelade D II
DESCRIPTION:KL D Tischtennis\nMTV Vechelade II vs. VFL Woltorf II
CONTACT:MTV Vechelade\, Sporthalle MTV Vechelade\, Am Sportplatz\, 38159 Vechelde
LOCATION:Sporthalle MTV Vechelade\, Am Sportplatz\, 38159 Vechelde
CATEGORIES:Sporthalle
END:VEVENT
END:VCALENDAR
